BEGIN:VCALENDAR
VERSION:2.0
PRODID:-//Heart of the Hills Quilters - ECPv6.15.20//NONSGML v1.0//EN
CALSCALE:GREGORIAN
METHOD:PUBLISH
X-ORIGINAL-URL:https://heartofthehillsquilters.com
X-WR-CALDESC:Events for Heart of the Hills Quilters
REFRESH-INTERVAL;VALUE=DURATION:PT1H
X-Robots-Tag:noindex
X-PUBLISHED-TTL:PT1H
BEGIN:VTIMEZONE
TZID:America/Denver
BEGIN:DAYLIGHT
TZOFFSETFROM:-0700
TZOFFSETTO:-0600
TZNAME:MDT
DTSTART:20250309T090000
END:DAYLIGHT
BEGIN:STANDARD
TZOFFSETFROM:-0600
TZOFFSETTO:-0700
TZNAME:MST
DTSTART:20251102T080000
END:STANDARD
BEGIN:DAYLIGHT
TZOFFSETFROM:-0700
TZOFFSETTO:-0600
TZNAME:MDT
DTSTART:20260308T090000
END:DAYLIGHT
BEGIN:STANDARD
TZOFFSETFROM:-0600
TZOFFSETTO:-0700
TZNAME:MST
DTSTART:20261101T080000
END:STANDARD
BEGIN:DAYLIGHT
TZOFFSETFROM:-0700
TZOFFSETTO:-0600
TZNAME:MDT
DTSTART:20270314T090000
END:DAYLIGHT
BEGIN:STANDARD
TZOFFSETFROM:-0600
TZOFFSETTO:-0700
TZNAME:MST
DTSTART:20271107T080000
END:STANDARD
END:VTIMEZONE
BEGIN:VEVENT
DTSTART;TZID=America/Denver:20260928T130000
DTEND;TZID=America/Denver:20260928T190000
DTSTAMP:20260421T144504
CREATED:20260114T185835Z
LAST-MODIFIED:20260120T141920Z
UID:3900-1790600400-1790622000@heartofthehillsquilters.com
SUMMARY:SOYO
DESCRIPTION:Bring your machine or hand sewing and come join your friends for an afternoon of sewing together! \n3rd Floor Conference Room
URL:https://heartofthehillsquilters.com/event/soyo/
LOCATION:Meeting Location\, 109 Main St\, Hill City\, SD\, 57745\, United States
ATTACH;FMTTYPE=image/jpeg:https://heartofthehillsquilters.com/wp-content/uploads/2025/01/SOYO.jpg
END:VEVENT
BEGIN:VEVENT
DTSTART;TZID=America/Denver:20261012T170000
DTEND;TZID=America/Denver:20261012T190000
DTSTAMP:20260421T144504
CREATED:20260114T190208Z
LAST-MODIFIED:20260114T190208Z
UID:3902-1791824400-1791831600@heartofthehillsquilters.com
SUMMARY:Quarterly Guild Meeting
DESCRIPTION:We have a large agenda to go over.  This will be the first meeting with our new president!
URL:https://heartofthehillsquilters.com/event/quarterly-guild-meeting/
LOCATION:Meeting Location\, 109 Main St\, Hill City\, SD\, 57745\, United States
CATEGORIES:Guild Meetings
ATTACH;FMTTYPE=image/png:https://heartofthehillsquilters.com/wp-content/uploads/2025/01/xsmall-Transp-Logo.png
END:VEVENT
BEGIN:VEVENT
DTSTART;TZID=America/Denver:20261026T130000
DTEND;TZID=America/Denver:20261026T190000
DTSTAMP:20260421T144504
CREATED:20260114T190238Z
LAST-MODIFIED:20260120T141847Z
UID:3904-1793019600-1793041200@heartofthehillsquilters.com
SUMMARY:SOYO
DESCRIPTION:Bring your machine or hand sewing and come join your friends for an afternoon of sewing together! \n3rd Floor Conference Room
URL:https://heartofthehillsquilters.com/event/soyo-2/
LOCATION:Meeting Location\, 109 Main St\, Hill City\, SD\, 57745\, United States
ATTACH;FMTTYPE=image/jpeg:https://heartofthehillsquilters.com/wp-content/uploads/2025/01/SOYO.jpg
END:VEVENT
BEGIN:VEVENT
DTSTART;TZID=America/Denver:20261109T170000
DTEND;TZID=America/Denver:20261109T190000
DTSTAMP:20260421T144504
CREATED:20260114T190323Z
LAST-MODIFIED:20260114T190323Z
UID:3906-1794243600-1794250800@heartofthehillsquilters.com
SUMMARY:Guild Meeting
DESCRIPTION:Come Join us for another awesome guild meeting!
URL:https://heartofthehillsquilters.com/event/guild-meeting-2/
LOCATION:Meeting Location\, 109 Main St\, Hill City\, SD\, 57745\, United States
CATEGORIES:Guild Meetings
ATTACH;FMTTYPE=image/png:https://heartofthehillsquilters.com/wp-content/uploads/2025/01/xsmall-Transp-Logo.png
END:VEVENT
BEGIN:VEVENT
DTSTART;TZID=America/Denver:20261123T130000
DTEND;TZID=America/Denver:20261123T190000
DTSTAMP:20260421T144504
CREATED:20260114T190407Z
LAST-MODIFIED:20260120T141831Z
UID:3908-1795438800-1795460400@heartofthehillsquilters.com
SUMMARY:SOYO
DESCRIPTION:Bring your machine or hand sewing and come join your friends for an afternoon of sewing together! \n3rd Floor Conference Room
URL:https://heartofthehillsquilters.com/event/soyo-3/
LOCATION:Meeting Location\, 109 Main St\, Hill City\, SD\, 57745\, United States
ATTACH;FMTTYPE=image/jpeg:https://heartofthehillsquilters.com/wp-content/uploads/2025/01/SOYO.jpg
END:VEVENT
BEGIN:VEVENT
DTSTART;TZID=America/Denver:20261214T170000
DTEND;TZID=America/Denver:20261214T190000
DTSTAMP:20260421T144504
CREATED:20260114T190445Z
LAST-MODIFIED:20260114T190445Z
UID:3910-1797267600-1797274800@heartofthehillsquilters.com
SUMMARY:Guild Meeting
DESCRIPTION:Come Join us for another awesome guild meeting!
URL:https://heartofthehillsquilters.com/event/guild-meeting-3/
LOCATION:Meeting Location\, 109 Main St\, Hill City\, SD\, 57745\, United States
CATEGORIES:Guild Meetings
ATTACH;FMTTYPE=image/png:https://heartofthehillsquilters.com/wp-content/uploads/2025/01/xsmall-Transp-Logo.png
END:VEVENT
BEGIN:VEVENT
DTSTART;TZID=America/Denver:20261228T130000
DTEND;TZID=America/Denver:20261228T190000
DTSTAMP:20260421T144504
CREATED:20260114T190717Z
LAST-MODIFIED:20260120T141813Z
UID:3912-1798462800-1798484400@heartofthehillsquilters.com
SUMMARY:SOYO
DESCRIPTION:Bring your machine or hand sewing and come join your friends for an afternoon of sewing together! \n3rd Floor Conference Room
URL:https://heartofthehillsquilters.com/event/soyo-4/
LOCATION:Meeting Location\, 109 Main St\, Hill City\, SD\, 57745\, United States
ATTACH;FMTTYPE=image/jpeg:https://heartofthehillsquilters.com/wp-content/uploads/2025/01/SOYO.jpg
END:VEVENT
END:VCALENDAR